BEGIN:VCALENDAR
VERSION:2.0
PRODID:-//Schetter Jugendhaus - ECPv4.5.5//NONSGML v1.0//EN
CALSCALE:GREGORIAN
METHOD:PUBLISH
X-WR-CALNAME:Schetter Jugendhaus
X-ORIGINAL-URL:http://schetterjugendhaus.lu
X-WR-CALDESC:Events for Schetter Jugendhaus
BEGIN:VEVENT
DTSTART;TZID=UTC+0:20170613T080000
DTEND;TZID=UTC+0:20170613T170000
DTSTAMP:20170621T095319
CREATED:20170613T133649Z
LAST-MODIFIED:20170613T133649Z
UID:468-1497340800-1497373200@schetterjugendhaus.lu
SUMMARY:Test
DESCRIPTION:test \n
URL:http://schetterjugendhaus.lu/eventer/test/
CATEGORIES:Inhouse
END:VEVENT
END:VCALENDAR